BEGIN:VCALENDAR
VERSION:2.0
X-WR-TIMEZONE:Europe/Paris
PRODID:-//Audencia//NONSGML v1.0//EN
CALSCALE:GREGORIAN
BEGIN:VEVENT
SUMMARY:Hanabi party in Asaka - Saitama, Japan
DTSTART:20180804T180000
DTEND:20180804T210000
UID:284
DTSTAMP:20260425T205907
LOCATION:Aobadai 1-2-3 Asaka-shi Saitama prefecture
DESCRIPTION:Save the date!\n\nAlumnus Sawao Uemura (IMM 15) is organising a Hanabi Party for Audencia alumni, students and friends on 4th August from 6pm.\n\n＜French follows Japanese＞\n暑い日が続きますが、皆さまいかがお過ごしでしょうか？\n夏祭りの季節が到来しましたね。\n私が住んでいる埼玉県の朝霞では彩夏祭という夏祭があり、花火やよさこい踊りで有名です。せっかくの機会ですので、一緒に花火を楽しみましょう！メンバーはオーデンシアOB中心ですが、お知り合いも大歓迎です。子どもたちも参加予定です。\n\n●日時：8月4日（土）18:00～\n18:00 集合\n19:15 花火開始\n20:15 花火終了\n\n●場所：埼玉県朝霞市青葉台１－２－３（auショップ朝霞駐車場）\n東武東上線朝霞駅より徒歩5分\nhttps://www.au.com/aushop/shop.E-00656/\n\n●持ち物：食べ物と飲み物（アルコールOKです）\n\n●備考：場所取りのため、3日（金）までに参加の旨ご連絡もらえると嬉しいです。\nまた、花火前にも色々なイベントがありますので、そちらもお楽しみください！\nhttps://saikasai.com/\n\nご不明点があれば、私（上村沢雄）まで遠慮なくご連絡ください。\nsawao1030@gmail.com\n070-1434-1151\n\nそれではお会いすること楽しみにしています。\n\n上村\n\nBonjour,\n\nMalgre qu’il fait chaud tous les jours, Tout le monde va bien?\nLa saison du festival d'été est arrivée.\nA Asaka, préfecture de Saitama où j’habite, il y a un festival d'été, appelé Saikasai.\nOn peut s’amuser le feu d'artifice et les danses Yosakoi. Profitons le feu d'artifice ensemble parce que c'est une grande opportunité! Les membres sont au centre Audencia Nantes OB, mais les connaissances sont également les bienvenues. \n\n●Date et l’heure: 4 août (samedi) 18h00 ~\n18h00 Reunir\n19h15 Début du feu d'artifice\n20h15 Fin de feu d'artifice\n\n●Lieu: Aobadai 1-2-3 , Asaka-shi, Préfecture de Saitama (le parking du “au Shop Asaka”)\nà 5 minutes à pied de la gare d'Asaka (la ligne Tobu Tojo)\nHttps://www.au.com/aushop/shop.E-00656/\n\n●Apportez SVP: nourriture et boissons\n\n●Remarques: \nPouvez-me faire savoir si vous venez avant vendredi, si c’est possible car il est besoin de prendre des places.\nEn outre, il y a plusieurs événements avant le feu d'artifice, alors profitons les aussi !\nhttps://saikasai.com/\n\nSi vous avez des questions, n'hésitez pas à me contacter.\nsawao1030@gmail.com, 070-1434-1151\n\nA tres bientot !\nSawao Uemura
BEGIN:VALARM
ACTION:DISPLAY
TRIGGER:-PT60M
DESCRIPTION:Hanabi party in Asaka - Saitama, Japan
END:VALARM
END:VEVENT
END:VCALENDAR