BEGIN:VCALENDAR
VERSION:2.0
X-WR-TIMEZONE:Europe/Paris
PRODID:-//Audencia//NONSGML v1.0//EN
CALSCALE:GREGORIAN
BEGIN:VEVENT
SUMMARY:Conférence et apéritif estival Paris : Évolutions et tendances des métiers de la communication et des médias, quelles compétences clés pour demain ?
DTSTART:20180710T190000
DTEND:20260425T205721
UID:282
DTSTAMP:20260425T205721
LOCATION:Maison Audencia Alumni   95 rue Falguière - 15ème
DESCRIPTION:Report de la conférence à une date ultérieure : \n\nSuite à la brillante qualification des bleus et donc au match de ½ finale de coupe du Monde mardi à 20h, nous avons décidé (et oui, c’est un bon exercice de communication de crise ! ) de décaler la conférence prévue mardi à 19h à Paris sur le thème des évolutions, tendances et compétences clés attendues pour demain dans les métiers de la communication et des médias. Nous reviendrons vers vous avec une nouvelle date prochainement.\n\n\n\nLaurence Crespel, Directrice d'Audencia SciencesCom, a le plaisir de vous inviter à une rencontre sur le thème "Évolutions et tendances des métiers de la communication et des médias : quelles compétences clés pour demain ?".\n\nDans le cadre de la réflexion sur l'évolution de la maquette pédagogique d'Audencia SciencesCom, l'école a réalisé une étude qualitative auprès d'entreprises, agences et institutions sur les évolutions des métiers de la communication et des médias et une projection de compétences attendues. \n\nAprès une présentation des résultats de l'étude, de Grands témoins partageront leur vision. S'en suivra un échange avec l'ensemble des invités : alumni et partenaires de l'école autour d'un apéritif estival.\n\nGrands témoins de la soirée :\n- Sophie Durand - Directrice communication, Randstad France\n- Sophie Palès - Déléguée Générale de l'AFCI\n- Arnaud Chaigneau - Directeur du NUMA\n- Edouard Rencker - Président, Makheia Group
BEGIN:VALARM
ACTION:DISPLAY
TRIGGER:-PT60M
DESCRIPTION:Conférence et apéritif estival Paris : Évolutions et tendances des métiers de la communication et des médias, quelles compétences clés pour demain ?
END:VALARM
END:VEVENT
END:VCALENDAR