BEGIN:VCALENDAR
VERSION:2.0
X-WR-TIMEZONE:Europe/Paris
PRODID:-//Audencia//NONSGML v1.0//EN
CALSCALE:GREGORIAN
BEGIN:VEVENT
SUMMARY:Conférence et apéritif estival Nantes : Évolutions et tendances des métiers de la communication et des médias, quelles compétences clés pour demain ?
DTSTART:20180705T183000
DTEND:20260425T205725
UID:281
DTSTAMP:20260425T205725
LOCATION:Mediacampus - Audencia SciencesCom 41 boulevard de la Prairie au duc 44 200 Nantes
DESCRIPTION:Laurence Crespel, Directrice d'Audencia SciencesCom, a le plaisir de vous inviter à une rencontre sur le thème "Évolutions et tendances des métiers de la communication et des médias : quelles compétences clés pour demain ?".\n\nDans le cadre de la réflexion sur l'évolution de la maquette pédagogique d'Audencia SciencesCom, l'école a réalisé une étude qualitative auprès d'entreprises, agences et institutions sur les évolutions des métiers de la communication et des médias et une projection de compétences attendues. \n\nAprès une présentation des résultats de l'étude, de Grands témoins partageront leur vision. S'en suivra un échange avec l'ensemble des invités : alumni et partenaires de l'école autour d'un apéritif estival. \n\n\nGrands témoins de la soirée :\n- Laurence Demeure - Directrice conseil, Gulfstream communication\n- Alice Maltete - Chef de projet, Notchup\n- Valentin Guillois - Président du Directoire, The Links
BEGIN:VALARM
ACTION:DISPLAY
TRIGGER:-PT60M
DESCRIPTION:Conférence et apéritif estival Nantes : Évolutions et tendances des métiers de la communication et des médias, quelles compétences clés pour demain ?
END:VALARM
END:VEVENT
END:VCALENDAR