BEGIN:VCALENDAR
VERSION:2.0
X-WR-TIMEZONE:Europe/Paris
PRODID:-//Audencia//NONSGML v1.0//EN
CALSCALE:GREGORIAN
BEGIN:VEVENT
SUMMARY:Parcours Nouvel Elan 12 & 13 juin 2017 (2 jours) : Définir ton projet
DTSTART:20170612T083000
DTEND:20170612T170000
UID:28
DTSTAMP:20260425T205723
LOCATION:PARIS
DESCRIPTION:Une offre inédite pour réinventer ta Carrière\n \n \nDéfinir ton projet \n\nCe parcours est pour toi si tu as envie de changement et tu as besoin d'être accompagné pour :  \n1. Apprendre à bien te connaître pour faire les bons choix, en identifiant tes motivations, tes préférences et tes forces distinctives "ce que je suis"\n2. Définir tes possibilités d’évolution "ce que je veux être"\n3. Te positionner sur 3 cibles professionnelles pour développer des contacts réseau et mettre au point un plan d’action "ce que je fais faire"\n\nOutils & Méthodes\nAtelier interactif en groupe de 6 à 12 personnes\nEntretien individuel d'une heure\nMBTI®\nSTRONG®\n \n \nLes consultantes\n\nCatherine CHAVIGNY (GE 89)\nCoach, Formatrice, Consultante RH\nFondatrice de 3C & Cie\n\nClaire ONGHENA (GE 98) \nCoach, Formatrice, Consultante Management & Confiance en soi\nFondatrice de CCO Coaching for Clarity\n\nAgnès MARCHAND\nResponsable pôle Audencia Careers\nAudencia Business School \n \nINSCRIPTION A LA CARTE\n\nParcours 2 jours - 06 & 07 juillet : Tester et déployer ton projet\nParcours complet - 12 & 13 juin / 06 & 07 juillet : Définir, tester et déployer ton projet
BEGIN:VALARM
ACTION:DISPLAY
TRIGGER:-PT60M
DESCRIPTION:Parcours Nouvel Elan 12 & 13 juin 2017 (2 jours) : Définir ton projet
END:VALARM
END:VEVENT
END:VCALENDAR