BEGIN:VCALENDAR
VERSION:2.0
X-WR-TIMEZONE:Europe/Paris
PRODID:-//Audencia//NONSGML v1.0//EN
CALSCALE:GREGORIAN
BEGIN:VEVENT
SUMMARY:Cocktail in Madrid, Spain
DTSTART:20180611T190000
DTEND:20180611T220000
UID:277
DTSTAMP:20260425T205950
LOCATION:Résidence de l’Ambassade de France Calle Serrano 124 28006 MADRID
DESCRIPTION:Rassemblement des Alumni des Grandes Écoles Françaises en Espagne (RAGEFE)\n\nLa Réception Annuelle des Alumni des Grandes Écoles Françaises en Espagne aura lieu\n \nle lundi 11 juin\nà partir de 19h00\nà la Résidence de l’Ambassade de France\nCalle Serrano, 124 28006 MADRID\n\nsous le parrainage de S.E. M. Yves Saint Geours, ambassadeur de France en Espagne.\n \nCe sera une nouvelle fois l’occasion de se rencontrer dans le magnifique cadre de la Résidence de France à Madrid et d’échanger entre alumni de plus de 13 Grandes Écoles Françaises (Sciences Po, HEC, ESCP Europe, ESSEC, EDHEC, Audencia, EM Lyon, EM Grenoble, Arts & Métiers, École Centrale, SUPÉLEC, École POLYTECHNIQUE, École Normale Supérieure d’Ulm/Fontenay/St-Cloud).\n \nDress code: Business (cravate non obligatoire)\n\n\n \n* inscriptions closes *
BEGIN:VALARM
ACTION:DISPLAY
TRIGGER:-PT60M
DESCRIPTION:Cocktail in Madrid, Spain
END:VALARM
END:VEVENT
END:VCALENDAR