BEGIN:VCALENDAR
VERSION:2.0
X-WR-TIMEZONE:Europe/Paris
PRODID:-//Audencia//NONSGML v1.0//EN
CALSCALE:GREGORIAN
BEGIN:VEVENT
SUMMARY:Afterwork in Miami with Audencia's Catherine Chassanite
DTSTART:20180619T190000
DTEND:20180619T210000
UID:276
DTSTAMP:20260425T205858
LOCATION:
DESCRIPTION:On the occasion of her visit to Miami for the MBA CSEA conference, Audencia careers consultant Catherine Chassanite would be delighted to meet up with alumni, students and friends.\n\nCome and join her for afterwork refreshments on Tuesday 19th June from 7pm:\n \nAt the ToroToro restaurant and bar\n- on the ground floor of the InterContinental Hotel - \n100 Chopin Plaza, Miami FL 33131\n\n 
BEGIN:VALARM
ACTION:DISPLAY
TRIGGER:-PT60M
DESCRIPTION:Afterwork in Miami with Audencia's Catherine Chassanite
END:VALARM
END:VEVENT
END:VCALENDAR