BEGIN:VCALENDAR
VERSION:2.0
X-WR-TIMEZONE:Europe/Paris
PRODID:-//Audencia//NONSGML v1.0//EN
CALSCALE:GREGORIAN
BEGIN:VEVENT
SUMMARY:Conférence "Comment mettre en place une politique marketing de bouche-à-oreille efficace dans le secteur du luxe ?"
DTSTART:20180626T190000
DTEND:20180626T220000
UID:275
DTSTAMP:20260425T210125
LOCATION:TWO EAT WORK CAFE - 11 rue Notre Dame de Nazareth 75003 PARIS
DESCRIPTION:Conférence avec Bettina Frohlich et Florine Zhao (GE 10) suivie d’un petit cocktail pour réseauter !\n\nLe luxe est un secteur très particulier, dans lequel on ne peut pas appliquer les règles du marketing de masse. On doit donc privilégier la relation et l'expérience client. \nBettina nous expliquera quels sont les moyens pour mettre en place une politique de bouche à oreille efficace dans le secteur du luxe. \nCela passe par la création d'un club de clients privilégiés et l'organisation d'événements spécifiques auxquels ils sont conviés avec leurs pairs. \nDans le luxe, la créativité et le storytelling priment pour susciter l'étonnement et le rêve.  \n\nLes conférencières :\n\n\n \nExperte en networking dans les métiers du luxe, Bettina Fröhlich accompagne les maisons dans leur stratégie de networking.\n\n\n\n\n\n\n\n\n\nFlorine Zhao (GE 10) a travaillé chez Louis Vuitton, Dior et actuellement chez Hermès, apportera son témoignage notamment dans le Digital et sur le marché chinois. \n\n\n\n\n\nLe programme de cette soirée :\n19h : Accueil au bar du restaurant avec un verre (dont vin blanc bio et bière artisanale) \n19h30-21h : Conférence\nA partir de 21h : Petit buffet "Healthy" d'inspiration scandinave (produits faits maison) avec des vins bio\n\n\nMerci de vous inscrire en haut à droite.\n\nAccès : Métro Temple ou République\n\nAu plaisir de vous retrouver le 26 juin prochain !
BEGIN:VALARM
ACTION:DISPLAY
TRIGGER:-PT60M
DESCRIPTION:Conférence "Comment mettre en place une politique marketing de bouche-à-oreille efficace dans le secteur du luxe ?"
END:VALARM
END:VEVENT
END:VCALENDAR