BEGIN:VCALENDAR
VERSION:2.0
X-WR-TIMEZONE:Europe/Paris
PRODID:-//Audencia//NONSGML v1.0//EN
CALSCALE:GREGORIAN
BEGIN:VEVENT
SUMMARY:COCKTAIL RESEAU
DTSTART:20180629T190000
DTEND:20260425T205843
UID:274
DTSTAMP:20260425T205843
LOCATION:
DESCRIPTION:\nA L'OCCASION DU TROPHEE GOLF AUDENCIA 2018​\ndans le cadre exceptionnel de l'Ile d'Or\n- vendredi 29 juin 19h - \n\n\nPlaces limitées - événement gratuit\n\n\nA l'occasion du Trophée Golf Audencia 2018, rejoignez les golfeurs lors d'un cocktail réseau convivial. Profitez du magnifique Club House, des paysages incroyables sur la Loire du Golf de l’Île d’Or sans jouer au golf.\n\nVous pouvez également venir soutenir les golfeurs, en tant que simples spectateurs, dans l'après-midi.\nAmbiance garantie ! \n\n>> Inscriptions obligatoires.\n>> Contacts : Michaël Thoby (EXEC-MBA 13) / Gérard Crépel (GE 79) \n\n\n \n
BEGIN:VALARM
ACTION:DISPLAY
TRIGGER:-PT60M
DESCRIPTION:COCKTAIL RESEAU
END:VALARM
END:VEVENT
END:VCALENDAR