BEGIN:VCALENDAR
VERSION:2.0
X-WR-TIMEZONE:Europe/Paris
PRODID:-//Audencia//NONSGML v1.0//EN
CALSCALE:GREGORIAN
BEGIN:VEVENT
SUMMARY:Afterwork in Berlin with Uwe Supper
DTSTART:20180625T180000
DTEND:20180625T220000
UID:272
DTSTAMP:20260425T205904
LOCATION:Prater Biergarten  Kastanienalle 7-9  Berlin
DESCRIPTION:Save the date!\nMonday 25 June from 18.30\n\nOn the occasion of Uwe Supper's visit to Berlin, Paul Lemaître (GE 15), is organising an afterwork gathering for Audencia students, alumni and friends. Join him and your favourite Audencia professor for a relaxed drink and the latest news from Nantes.\n\n \nPrater Biergarten\nKastanienalle 7-9\n(just next to Mauerpark)
BEGIN:VALARM
ACTION:DISPLAY
TRIGGER:-PT60M
DESCRIPTION:Afterwork in Berlin with Uwe Supper
END:VALARM
END:VEVENT
END:VCALENDAR