BEGIN:VCALENDAR
VERSION:2.0
X-WR-TIMEZONE:Europe/Paris
PRODID:-//Audencia//NONSGML v1.0//EN
CALSCALE:GREGORIAN
BEGIN:VEVENT
SUMMARY:Alumni gathering in Casablanca, Morocco
DTSTART:20180531T190000
DTEND:20180531T220000
UID:271
DTSTAMP:20260425T223812
LOCATION:JUST BURGER  Mohammed el hayani,  20250 Casablanca, Morocco
DESCRIPTION:\n \n\n\nLe jeudi 31 mai à partir de 19h, la famille Audencia Alumni Maroc se réunira pour partager un ftour au Just Burger. Nous avons privatisé l'étage pour l'occasion, nous aurons droit à un buffet au tarif de 149dhs par personne.\n\nQuelques informations supplémentaires sur le lieu:\n \n\n\n	le ftour coûte 149 dhs dont 49 dhs sont remis à l'association SOS Villages d'Enfants Maroc (officiel)\n	le restaurant est tenu par le gagnant de Masterchef 2018 Simo Masterchef Maroc سيمو ماسترشيف المغرب,\n	contrairement à ce qu'on pourrait penser, Just Burger ne sert pas que des burgers \n\n\nMerci de m'envoyer un message facebook d'ici vendredi au plus tard pour confirmer votre participation et préciser si il y aura des +1, +2 ... \n\nAu plaisir de vous voir prochainement!\n\nSarah Diouri
BEGIN:VALARM
ACTION:DISPLAY
TRIGGER:-PT60M
DESCRIPTION:Alumni gathering in Casablanca, Morocco
END:VALARM
END:VEVENT
END:VCALENDAR