BEGIN:VCALENDAR
VERSION:2.0
X-WR-TIMEZONE:Europe/Paris
PRODID:-//Audencia//NONSGML v1.0//EN
CALSCALE:GREGORIAN
BEGIN:VEVENT
SUMMARY:Evénement à Nantes: Les clefs pour entreprendre
DTSTART:20180524T130000
DTEND:20180524T193000
UID:270
DTSTAMP:20260425T210022
LOCATION:Audencia Business School 8 route de la Joneliere Nantes
DESCRIPTION:Les clefs pour entreprendre\nAudencia Junior Conseil organise la seconde édition de l’événement «Les clefs pour entreprendre» de 13:00 à 19:30 à Audencia le 24 mai. \n \n\n	Apprenez du retour d’expérience d’entrepreneurs à succès lors de notre conférence "Never stop daring: une des clefs pour entreprendre?" \n	Bénéficiez de l’expertise de professionnels pour découvrir les outils et méthodes indispensables pour franchir la prochaine étape de votre projet entrepreneurial autour d’ateliers thématiques. \n	Faites preuve d’audace lors de notre concours de pitch ! \n\n \nNous vous attendons nombreux !\nVenez transformer votre envie en projet (et peut-être gagnez un prix par la même occasion) !\n\n \n\nInscrivez-vous dès maintenant\n \n \n \n
BEGIN:VALARM
ACTION:DISPLAY
TRIGGER:-PT60M
DESCRIPTION:Evénement à Nantes: Les clefs pour entreprendre
END:VALARM
END:VEVENT
END:VCALENDAR