BEGIN:VCALENDAR
VERSION:2.0
X-WR-TIMEZONE:Europe/Paris
PRODID:-//Audencia//NONSGML v1.0//EN
CALSCALE:GREGORIAN
BEGIN:VEVENT
SUMMARY:Afterwork à l'occasion du Web2day 2018
DTSTART:20180613T190000
DTEND:20180613T220000
UID:269
DTSTAMP:20260425T205812
LOCATION:Mediacampus  41 boulevard de la Prairie au duc 44200 Nantes
DESCRIPTION:Le Mediacampus au coeur de la 10 ème édition du Web2day à Nantes !\n \n\nÀ l'occasion du Web2day 2018, le festival du numérique, Audencia Alumni vous invite à un afterwork au Mediacampus le mercredi 13 juin à partir de 19h.\n\nOuvert à tous : alumni de l'ensemble des programmes Audencia, incubés de l'Alliance et staff Audencia, venez participer à un moment convivial du réseau.\n\nApéritif offert à toutes et tous ! \n \n\nLa participation à l'afterwork ne nécessite pas d'être en possession d'un pass pour le Web2day. \nAccès libre à partir de 19h. \n\nRetrouvez le programme du festival ---> Web2day 2018
BEGIN:VALARM
ACTION:DISPLAY
TRIGGER:-PT60M
DESCRIPTION:Afterwork à l'occasion du Web2day 2018
END:VALARM
END:VEVENT
END:VCALENDAR