BEGIN:VCALENDAR
VERSION:2.0
X-WR-TIMEZONE:Europe/Paris
PRODID:-//Audencia//NONSGML v1.0//EN
CALSCALE:GREGORIAN
BEGIN:VEVENT
SUMMARY:USA - 2018 startup competition - DEADLINE EXTENDED TO 23 May
DTSTART:20180523T000000
DTEND:20180523T235900
UID:267
DTSTAMP:20260425T205845
LOCATION:ONLINE
DESCRIPTION:Competition for startuppers in North America\n\n\nAudencia Alumni startuppers are invited to apply for the 2018 Start Up Tour - the leading competition for French startups in North America!\n\nThe event is hosted by FrenchFounders and AAGEF New York is one of the sponsors.\n\nThe deadline has been extended and you can apply until May 23rd using the special CODE: AAGEF2018FF\n\nFOR MORE INFORMATION about the event, follow this link.\n \n\nLOCAL COMPETITIONS:\n\n\n	#NYC 6th June\n	#Miami 12th June\n	#LA 19th June\n	#Montreal 28th June\n	#Paris 3rd July\n	 \n\n\nThe final competition will be held in NEW YORK in September 
BEGIN:VALARM
ACTION:DISPLAY
TRIGGER:-PT60M
DESCRIPTION:USA - 2018 startup competition - DEADLINE EXTENDED TO 23 May
END:VALARM
END:VEVENT
END:VCALENDAR