BEGIN:VCALENDAR
VERSION:2.0
X-WR-TIMEZONE:Europe/Paris
PRODID:-//Audencia//NONSGML v1.0//EN
CALSCALE:GREGORIAN
BEGIN:VEVENT
SUMMARY:Petit-déjeuner atlanpolitain: "Marchés des Cleantech"
DTSTART:20180606T074500
DTEND:20180606T100000
UID:266
DTSTAMP:20260425T205902
LOCATION:CITE DES CONGRES  5, rue de Valmy 44000 NANTES
DESCRIPTION:Au programme : \n\n7h45-9h\nLe panorama des Cleantech en France en 2018\nPrésentation de l’étude annuelle sur les tendances des Cleantech réalisée par GreenUnivers. Ces tendances seront commentées par un panel d’acteurs des Cleantech (entrepreneurs, investisseurs…).\n\n9h-10h\n2 ateliers au choix (à préciser lors de votre inscription) :        \n\n	Les nouveaux marchés liés à la densification des villes,\n	Les nouveaux marchés liés à la raréfaction des ressources\n\nCes ateliers permettront de passer en revue quelques marchés pour lesquels des innovations majeures sont attendues pour répondre aux contraintes de la densification des villes d’une part, et de la raréfaction des ressources d'autre part.\nAnticipez et comprenez mieux ces marchés afin de proposer les offres de services et de technologies les plus adaptées.\n \n \nLES INTERVENANTS\n\nIntervenants Panorama des Cleantech :\n\n\n	Guillaume AYNE, Délégué national Filières et Territoires, PEXE\n	Panel de commentateurs\n\n\nIntervenants Atelier « Densification des Villes» :\n\n\n	Jean-Luc CHARLES, Directeur Général - SAMOA\n	Maureen LE BAUD, Investment Director - DEMETER\n	Benjamin MORILLE, Dirigeant - SOLENEOS\n	Pierre REGNIER, Président - VELCO\n\n\nIntervenants Atelier « Raréfaction des Ressources» :\n\n\n	Didier ZIMMERMAN, General Manager – EIT RAWMATERIALS\n	Arthur PERROTON, Analyste stratégie – Groupe ERAMET\n\n\n\n\n \n\n	\n		\n			\n			JE M'INSCRIS* \n			\n		\n	\n\n\n\nParticipation gratuite mais inscription obligatoire*\n\n\n \n\nCONTACT\nIsabelle LE ROUIC : 02.40.25.01.23  lerouic@atlanpole.fr\n\n
BEGIN:VALARM
ACTION:DISPLAY
TRIGGER:-PT60M
DESCRIPTION:Petit-déjeuner atlanpolitain: "Marchés des Cleantech"
END:VALARM
END:VEVENT
END:VCALENDAR