BEGIN:VCALENDAR
VERSION:2.0
X-WR-TIMEZONE:Europe/Paris
PRODID:-//Audencia//NONSGML v1.0//EN
CALSCALE:GREGORIAN
BEGIN:VEVENT
SUMMARY:Private screening of "Turning Tide" in New York, USA
DTSTART:20180514T183000
DTEND:20180514T220000
UID:265
DTSTAMP:20260425T205817
LOCATION:Tribeca Film Center 375 Greenwich Street New York, 10013
DESCRIPTION:Never shown in the US, “Turning Tide” / “En Solitaire” is a fiction telling the story of Yann Kermadec whose dreams suddenly come true when he has to replace a star skipper at the last minute before the start of the Vendée Globe, a round-the-world solo offshore race. After several days of racing, Yann, who is in the lead, has to stop to repair a damaged rudder. This will disrupt his journey as he finds a stowaway got into his boat...\n\nIn coarse French subtitled in proper English.\nLearn some coarsican on the way !\n\nFree for Friends of the FAYC\n$25 per ticket for non-Friends\n\nSupport our mission by becoming a Friend of FAYC and get your free ticket for this event, discounts and exclusive access to future events.\n\nDoors open at 6:30pm. \nDrinks after the screening at Tribeca Grill (cash bar), next door.\n \nRegister here now\nThis will be a sold out event !
BEGIN:VALARM
ACTION:DISPLAY
TRIGGER:-PT60M
DESCRIPTION:Private screening of "Turning Tide" in New York, USA
END:VALARM
END:VEVENT
END:VCALENDAR