BEGIN:VCALENDAR
VERSION:2.0
X-WR-TIMEZONE:Europe/Paris
PRODID:-//Audencia//NONSGML v1.0//EN
CALSCALE:GREGORIAN
BEGIN:VEVENT
SUMMARY:Gagnez votre pass pour le Web2day 2018
DTSTART:20180613T000000
DTEND:20260425T205716
UID:264
DTSTAMP:20260425T205716
LOCATION:Audencia SciencesCom - Mediacampus  41 boulevard de la Prairie au Duc
DESCRIPTION:INSCRIPTION TIRAGE AU SORT WEB2DAY\n \n\nÀ l'occasion du Web2day 2018 les 13, 14 et 15 juin prochains, Audencia SciencesCom, partenaire d'Atlantic 2.0 a le plaisir d'offrir aux alumni 20 pass pour la journée du mercredi 13 juin 2018. \n\nL'opportunité d'assister à l’un des plus importants festivals du numérique en France ! \n\n3 jours où plus de 5 000 participants, 300 speakers nationaux et internationaux, entreprises innovantes, porteurs de projets, investisseurs, institutionnels, élus et médias se rassemblent. En savoir plus. \n\n \n\nModalités et conditions de participations : \n\nPour participer au jeux concours merci de vous inscrire entre le vendredi 27 avril et le vendredi 18 mai 2018 via le lien INSCRIPTION de cet événement. L'équipe alumni Audencia SciencesCom procédera au tirage au sort des participants le mardi 22 mai après validation des conditions de participations suivantes :\n\n- Être alumni membre de la communauté Audencia SciencesCom sur Together\n\n- Être alumni adhérent à vie au réseau Audencia alumn
BEGIN:VALARM
ACTION:DISPLAY
TRIGGER:-PT60M
DESCRIPTION:Gagnez votre pass pour le Web2day 2018
END:VALARM
END:VEVENT
END:VCALENDAR