BEGIN:VCALENDAR
VERSION:2.0
X-WR-TIMEZONE:Europe/Paris
PRODID:-//Audencia//NONSGML v1.0//EN
CALSCALE:GREGORIAN
BEGIN:VEVENT
SUMMARY:Conférence "RévolutionS : ils inventent demain !" & Summer Party - 03 juillet 2018
DTSTART:20180703T190000
DTEND:20180703T230000
UID:263
DTSTAMP:20260425T223651
LOCATION:Les Salons Hoche 9 avenue Hoche 75008 PARIS
DESCRIPTION:SOLD OUT\nLes inscriptions sont momentanément closes.\nSi vous êtes intéressé, merci d’envoyer un mail à Emilie Tendron etendron@audencia.com qui vous recontactera dès que de nouvelles places seront ouvertes.\n\n \nLa Summer Party Audencia Alumni approche à grands pas !\n \nLe 3 juillet 2018, dans le cadre chic & cool des Salons Hoche, au cœur de Paris, retrouvez-vous entre diplômés de tous les programmes et de toutes les promos d’Audencia.\nAu menu : (re)connexion entre diplômés et avec votre école, inspiration et respirations. Et surtout une grande dose de convivialité et de plaisir partagé !\n \nVotre programme :\n\n	19h00 : Accueil\n	19h30 : Conférence « RévolutionS : ils inventent demain », avec la participation exceptionnelle de : \n\n\nJean-Louis Etienne \n\nMédecin-explorateur\nPremier homme à atteindre le Pôle Nord en solitaire \n\n\n\nEt les témoignages de :\n\n\n\nHélène De Vestèle (GE 15)\n\n\n\n\n\nSylvie Davila (EXEC MBA 10)\n\n\n\n\n\nGilles Vanderpooten (GE 09)\n\n\n\n \n\n\n	\n		\n			\n			\n				\n					\n						En présence de Christophe Germain, Directeur Général d’Audencia, et Cécile Kergrohen (GE 93), Présidente du Conseil de Surveillance de l’association Audencia Alumni.\n						 \n					\n				\n			\n			\n		\n	\n\n\n \n\n\n	\n		\n			\n			\n				\n					\n						\n						\n							21h00 : Summer party : cocktail dînatoire, networking et animations conviviales sur le rooftop des Salons Hoche\n							Minuit : fin des festivités officielles mais les plus audacieux pourront poursuivre au Buddha Bar ou ailleurs\n						\n						\n					\n				\n			\n			\n		\n	\n\n\n \n\nLa Summer Party est ouverte à tous les diplômés, avec l’accompagnant de leur choix. N’hésitez pas à mobiliser vos camarades de promo pour qu’ils participent.\n\nL’entrée est gratuite mais les inscriptions sont obligatoires.\n\nVenez nombreux ! \n\n\nInscrivez-vous en haut à droite \nInformations complémentaires : Emilie TENDRON etendron@audencia.com\n 
BEGIN:VALARM
ACTION:DISPLAY
TRIGGER:-PT60M
DESCRIPTION:Conférence "RévolutionS : ils inventent demain !" & Summer Party - 03 juillet 2018
END:VALARM
END:VEVENT
END:VCALENDAR