BEGIN:VCALENDAR
VERSION:2.0
X-WR-TIMEZONE:Europe/Paris
PRODID:-//Audencia//NONSGML v1.0//EN
CALSCALE:GREGORIAN
BEGIN:VEVENT
SUMMARY:Capsule Carrière 14 juin 2018 : Le Storytelling, un formidable outil de leadership !
DTSTART:20180614T190000
DTEND:20180614T223000
UID:262
DTSTAMP:20260425T205724
LOCATION:AUDENCIA BUSINESS SCHOOL 95 rue Falguière 75015 PARIS
DESCRIPTION:\n \nAudencia Careers et Audencia Alumni ont le plaisir de vous convier à la deuxième Capsule Carrière 2018.\nCelle-ci sera animée par Agnès MARCHAND, Responsable Audencia Careers. \n\n\nDécouvrez le Storytelling, un formidable outil de leadership !\n\nQuelquefois, on est tellement la tête dans le guidon qu’on n’est plus capable d’expliquer ce qu’on fait… simplement, efficacement.\nEt pourtant, nous n’avons jamais deux fois l’occasion de faire une première bonne impression. Retrouvons les réflexes indispensables à convaincre.\nYaël Gabison, fondatrice de Smartside, cabinet conseil en leadership propose un atelier pour savoir pitcher son activité en 2 minutes chrono !\n\n\n\nSmartside : Cabinet conseil en leadership\nAprès avoir été journaliste, Directrice Marketing et auteure de séries TV, Yaël Gabison fonde Smartside en 2008, avec l’intime conviction que les techniques d’entertainment sont la voie royale pour développer le leadership en Entreprise.\nQuelques cheveux blancs, trois méthodes propriétaires, une association avec Marina Baillon (GE 03) ex-auditrice PWC et Directrice Associée Finance et IT chez Robert  Walters- et de belles histoires avec des clients de rêve plus tard, Smartside se tourne vers l’international : NYC, Montréal et demain : le Luxembourg et la Belgique. \n\n\n \nJeudi 14 Juin 2018\n19:00 – 22:30\nAUDENCIA BUSINESS SCHOOL\n95 RUE FALGUIERE 75015 PARIS\n\nAgenda\n\n\n	19:00 : Accueil \n	19:30–21:00: Conférence atelier\n	21:00–22:30 : Cocktail networking\n\n\n\nInscrivez-vous en haut à droite \nInformations complémentaires : Emilie TENDRON etendron@audencia.com\n\nPlus d'informations sur Smartside : cliquez ici\n 
BEGIN:VALARM
ACTION:DISPLAY
TRIGGER:-PT60M
DESCRIPTION:Capsule Carrière 14 juin 2018 : Le Storytelling, un formidable outil de leadership !
END:VALARM
END:VEVENT
END:VCALENDAR