BEGIN:VCALENDAR
VERSION:2.0
X-WR-TIMEZONE:Europe/Paris
PRODID:-//Audencia//NONSGML v1.0//EN
CALSCALE:GREGORIAN
BEGIN:VEVENT
SUMMARY:Comment créer une société de la confiance ?
DTSTART:20180516T183000
DTEND:20180516T210000
UID:261
DTSTAMP:20260425T205721
LOCATION:Audencia 95 rue Falguière 75015 PARIS
DESCRIPTION:Conférence-débat avec Nadia Medjad (Médecin, spécialiste des neurosciences)\n\n"L’hybridation peut-elle nous aider à créer une société de la confiance ?"​\n \n\n	Qu’entend-on par hybridation ?\n	Qu’est-ce que serait une société de la confiance ?\n	Qu’est-ce que les neurosciences nous apprennent sur les leviers de la confiance ?\n	Comment agir aujourd’hui pour construire un futur souhaitable ?\n\n\nAutant de questions que nous chercherons à éclairer avec les différents contributeurs du 9ème Cahier Cercle de la Prospective RH et le Docteur Nadia Medjad, médecin, spécialiste des neurosciences.\n\nMercredi 16 Mai\n18:30 – 21:00\nAUDENCIA BUSINESS SCHOOL\n95 RUE FALGUIERE 75015 PARIS\n\n \n\nAgenda\n\n\n	18:30 : Accueil \n	19:00–20:15 : Conférence débat\n	20:15–21:00 : Cocktail\n\n\n\nInscrivez-vous en haut à droite \nPour plus d'informations sur l'événement, contactez Marie Borrello mborrello@audencia.com\n\nPour découvrir le cahier sur "L'Hybridation des compétences" cliquez ici.
BEGIN:VALARM
ACTION:DISPLAY
TRIGGER:-PT60M
DESCRIPTION:Comment créer une société de la confiance ?
END:VALARM
END:VEVENT
END:VCALENDAR