BEGIN:VCALENDAR
VERSION:2.0
X-WR-TIMEZONE:Europe/Paris
PRODID:-//Audencia//NONSGML v1.0//EN
CALSCALE:GREGORIAN
BEGIN:VEVENT
SUMMARY:SOLD OUT! Webinar: Steve Dalton on how to write your CV efficiently
DTSTART:20180419T193000
DTEND:20180419T204500
UID:260
DTSTAMP:20260425T210023
LOCATION:ONLINE
DESCRIPTION:How to write your CV efficiently\nSteve Dalton's webinar on 19th April is sold out.\n \nToo late for the live webinar on 19th April?\nCatch up with Audencia's webinar library!\n \n\nAudencia's webinar library is a new service for Audencia students and alumni featuring world-class management thinkers like Steve Dalton, Dorie Clark and Julian Birkinshaw.\n\nThe webinar library offers you an excellent opportunity to go back to the topics that you missed during the live broadcast. We are offering a limited number of free and unlimited accounts to access the webinar library.\n\nStudents and alumni who are interested in advice on job-hunting and interviewing, international careers, being a better boss, to name just a few of the subjects covered, should set up an account.\n\nDon't miss this opportunity, set up your account now!\n \n\nSteve Dalton's webinar will be added to the library after it has gone out live on 19th April.
BEGIN:VALARM
ACTION:DISPLAY
TRIGGER:-PT60M
DESCRIPTION:SOLD OUT! Webinar: Steve Dalton on how to write your CV efficiently
END:VALARM
END:VEVENT
END:VCALENDAR