BEGIN:VCALENDAR
VERSION:2.0
X-WR-TIMEZONE:Europe/Paris
PRODID:-//Audencia//NONSGML v1.0//EN
CALSCALE:GREGORIAN
BEGIN:VEVENT
SUMMARY:Afterwork in Sao Paulo, Brazil
DTSTART:20170316T193000
DTEND:20170316T210000
UID:26
DTSTAMP:20260425T205954
LOCATION:Le Canaille Bar, Rua Cristiano Viana, 390, Pinheiros Sao Paulo
DESCRIPTION:Come and join students and alumni from Audencia for an afterwork reunion in Sao Paulo.\n\nAt Le Canaille Bar, Rua Cristiano Viana, 390, Pinheiros\n\nFrom 19.30.\n\nWe look forward to seeing you there.\n\n 
BEGIN:VALARM
ACTION:DISPLAY
TRIGGER:-PT60M
DESCRIPTION:Afterwork in Sao Paulo, Brazil
END:VALARM
END:VEVENT
END:VCALENDAR