BEGIN:VCALENDAR
VERSION:2.0
X-WR-TIMEZONE:Europe/Paris
PRODID:-//Audencia//NONSGML v1.0//EN
CALSCALE:GREGORIAN
BEGIN:VEVENT
SUMMARY:Afterwork in Hong Kong
DTSTART:20180424T190000
DTEND:20180424T220000
UID:259
DTSTAMP:20260425T205729
LOCATION:YellowPurple Cafe & Bar G/F, 56 Forbes Street, Kennedy Town, Hong Kong
DESCRIPTION:Chers alumni,\n\nSing nous ouvre les portes de son bar à Kennedy Town avec un deal sympa:\n- Happy Hour de 19h à 22h\n- 20% sur le vin toute la soirée\n- Des plateaux à déguster\n \nYellowPurple Cafe & Bar\nG/F, 56 Forbes Street, Kennedy Town, Hong Kong\n \n\nPour plus d'informations: suivez ce lien
BEGIN:VALARM
ACTION:DISPLAY
TRIGGER:-PT60M
DESCRIPTION:Afterwork in Hong Kong
END:VALARM
END:VEVENT
END:VCALENDAR