BEGIN:VCALENDAR
VERSION:2.0
X-WR-TIMEZONE:Europe/Paris
PRODID:-//Audencia//NONSGML v1.0//EN
CALSCALE:GREGORIAN
BEGIN:VEVENT
SUMMARY:AAGEF breakfast discussion in New York, USA
DTSTART:20180510T083000
DTEND:20180510T103000
UID:258
DTSTAMP:20260425T205812
LOCATION:Saybrook Room at the Yale Club 50 Vanderbilt Avenue New York
DESCRIPTION:AAGEF Executive Club: The Business of Creativity\nThe Executive Club of AAGEF is pleased to invite you for a conversation with Veronique Gabai-Pinsky, President of Vera Wang on "The Business of Creativity"\n\nThe business model of luxury consumer brands is a changing one in the context of a more digitally savvy world, and a growing millennial consumer base. The goal is not to answers "needs" but to create "wants". This talk will explore how successful organizations focus on creativity - a risky endeavour - while balancing the business needs and how to find the right balance between these two competing priorities. \n\nJoin us on Thursday 10 May at 8:30am for a breakfast discussion in the Saybrook Room at the Yale Club, 50 Vanderbilt Avenue, NYC. \n\n \nRSVP and more info\n\n\nWe hope to see you there, \nAAGEF event team\n\n\n*AAGEF is an association based in the USA for alumni of French Grandes Ecoles. Audencia is a member of AAGEF. Come along to events organised by the AAGEF team to connect with fellow Audencians but also alumni from other French Grandes Ecoles!*
BEGIN:VALARM
ACTION:DISPLAY
TRIGGER:-PT60M
DESCRIPTION:AAGEF breakfast discussion in New York, USA
END:VALARM
END:VEVENT
END:VCALENDAR