BEGIN:VCALENDAR
VERSION:2.0
X-WR-TIMEZONE:Europe/Paris
PRODID:-//Audencia//NONSGML v1.0//EN
CALSCALE:GREGORIAN
BEGIN:VEVENT
SUMMARY:AMBA Connect in Paris, France
DTSTART:20180531T180000
DTEND:20180531T210000
UID:255
DTSTAMP:20260425T205732
LOCATION:InterContinental Paris Le Grand ​2 Rue Scribe, 75009 Paris
DESCRIPTION:Did you graduate from an AMBA-accredited programme at Audencia?\n\nAlumni from Audencia's Grande Ecole and MBA (full-time, executive part-time & EuroMBA) programmes are invited by AMBA, the Association of MBAs for an evening of networking and relationship-building in Paris with students and alumni of AMBA-accredited programmes.\n\nGuest speaker, Didier Rouillard, Quadient Corporate Vice-President, BPO Business, will discuss the viability of using your MBA to change industry or to start your own business.\n\nRegister for free today >>\n\nThis event is free for students and graduates of AMBA-accredited programmes but online registration is required.\n\n \n31 May 2018\n18:00-21:00\nInterContinental Paris Le Grand\n2 Rue Scribe, 75009 Paris\n\n 
BEGIN:VALARM
ACTION:DISPLAY
TRIGGER:-PT60M
DESCRIPTION:AMBA Connect in Paris, France
END:VALARM
END:VEVENT
END:VCALENDAR