BEGIN:VCALENDAR
VERSION:2.0
X-WR-TIMEZONE:Europe/Paris
PRODID:-//Audencia//NONSGML v1.0//EN
CALSCALE:GREGORIAN
BEGIN:VEVENT
SUMMARY:AMBA Connect in London, UK
DTSTART:20180426T180000
DTEND:20180426T210000
UID:254
DTSTAMP:20260425T205948
LOCATION:
DESCRIPTION:Did you graduate from an AMBA-accredited programme at Audencia?\n\nAlumni from Audencia's Grande Ecole and MBA (full-time, executive part-time & EuroMBA) programmes are invited by AMBA, the Association of MBAs for an evening of networking and relationship-building in London with students and alumni of AMBA-accredited programmes.\n\nGuest speaker, Jessica Rockson, Founder and Director of Rocksteady Coaching, will share her insights on harnessing energy leadership to bring you greater success and self-mastery.\n\nRegister for free today >>\n\nThis event is free for students and graduates of AMBA-accredited programmes but online registration is required.\n \n26 April 2018\n18:00-21:00\nIHG Crowne Plaza London – The City\n19 New Bridge St, London EC4V 6DB\n\n 
BEGIN:VALARM
ACTION:DISPLAY
TRIGGER:-PT60M
DESCRIPTION:AMBA Connect in London, UK
END:VALARM
END:VEVENT
END:VCALENDAR