BEGIN:VCALENDAR
VERSION:2.0
X-WR-TIMEZONE:Europe/Paris
PRODID:-//Audencia//NONSGML v1.0//EN
CALSCALE:GREGORIAN
BEGIN:VEVENT
SUMMARY:Alumni picnic in Tokyo, Japan
DTSTART:20180422T110000
DTEND:20180422T150000
UID:253
DTSTAMP:20260425T205730
LOCATION:Parc Shinjuku Gyoen Tokyo
DESCRIPTION:Bonjour à tous,\n\nLes cerisiers fleurissent. C'est la saison des pique-niques qui demarre! Vous êtes les bienvenus pour ce pique-nique familial, avec des amis.\n\nNous nous retrouverons le 22 Avril, a partir de 11h au parc Shinjuku Gyoen, du cote de l'entrée Sendagaya (gare sendagaya): https://goo.gl/maps/1gxuF9hwD9v\n\nVenez nombreux pour tout renseignement le jour même: baptiste.bassot@gmail.com\n\n—————————\n\nPique-Niqueのお知らせです。\n\n皆さまいかがお過ごしでしょうか。\n\nせっかくの良い時季、一瞬に外に出かけませんか。 ということで、ピクニックを開催したいと思います！メンバーはオーデンシアOBを中心にしていますが、どなたでも大歓迎です。宜しければ、周りにもお声がけ下さい。子どもの参加が多い会になりそうです。\n\n日時: 4月22日（日）11時頃より\n\n場所: 新宿御苑 千駄ヶ谷門より入ってすぐの芝生広場 \nhttps://goo.gl/maps/1gxuF9hwD9v http://fng.or.jp/shinjuku/issue/#midokoro\n\n持ち物:各自食べ物と飲み物をご持参ください。\n\n新宿御苑の規定で、残念ながらお酒は持ち込み厳禁です。\n\n何かわからないことがありましたら baptiste.bassot@gmail.com までご連絡下さい。
BEGIN:VALARM
ACTION:DISPLAY
TRIGGER:-PT60M
DESCRIPTION:Alumni picnic in Tokyo, Japan
END:VALARM
END:VEVENT
END:VCALENDAR