BEGIN:VCALENDAR
VERSION:2.0
X-WR-TIMEZONE:Europe/Paris
PRODID:-//Audencia//NONSGML v1.0//EN
CALSCALE:GREGORIAN
BEGIN:VEVENT
SUMMARY:Promos 1955 > 70 : Cérémonie COMMÉMORATIVE Rue Voltaire
DTSTART:20180531T180000
DTEND:20180531T203000
UID:252
DTSTAMP:20260425T205813
LOCATION:Muséum d'histoire naturelle 12, rue Voltaire - 44000 Nantes
DESCRIPTION:\n\n\n\nA l’initiative de la promotion 1964, une plaque commémorative sera posée au 12, rue Voltaire, actuelle adresse du Muséum d’histoire naturelle,\n\nJeudi 31 mai de 18h à 20h30.\n\n\nA cette occasion, nous vous invitons à une cérémonie inédite, retraçant la mémoire et la fierté de ces hommes et ces femmes qui ont forgé avec passion le devenir d’Audencia, aujourd’hui 6ème meilleure école de commerce française.\n\n\nAu programme :\nsouvenirs, commémoration, inauguration de la plaque, visite du musée et cocktail.\n\nContacts :\n\n	Laëtitia Caliez, Responsable Animation Réseau : lcaliez@audencia.com\n	Christian Leneveu, promotion 1964, cc.leneveu@hotmail.fr\n\n\n\n\nNous vous attendons nombreux !\n \n
BEGIN:VALARM
ACTION:DISPLAY
TRIGGER:-PT60M
DESCRIPTION:Promos 1955 > 70 : Cérémonie COMMÉMORATIVE Rue Voltaire
END:VALARM
END:VEVENT
END:VCALENDAR