BEGIN:VCALENDAR
VERSION:2.0
X-WR-TIMEZONE:Europe/Paris
PRODID:-//Audencia//NONSGML v1.0//EN
CALSCALE:GREGORIAN
BEGIN:VEVENT
SUMMARY:Afterwork in Lisbon, Portugal
DTSTART:20170327T190000
DTEND:20170327T203000
UID:25
DTSTAMP:20260425T205818
LOCATION:Scale Bar - Epic Sana Lisboa Hotel Avenida Engenheiro Duarte Pacheco 15 1070-100 Lisboa
DESCRIPTION:Catherine Chassanite, Audencia Careers and Katie Francois, Audencia Alumni, are attending a conference in Lisbon and would like to take the opportunity to meet up with alumni there for an informal afterwork reunion.\nJoin us on 27th March from 19.00-20.30 at the Scale Bar of the Epic Sana Lisboa Hotel\nAvenida Engenheiro Duarte Pacheco 15\n1070-100 Lisboa
BEGIN:VALARM
ACTION:DISPLAY
TRIGGER:-PT60M
DESCRIPTION:Afterwork in Lisbon, Portugal
END:VALARM
END:VEVENT
END:VCALENDAR