BEGIN:VCALENDAR
VERSION:2.0
X-WR-TIMEZONE:Europe/Paris
PRODID:-//Audencia//NONSGML v1.0//EN
CALSCALE:GREGORIAN
BEGIN:VEVENT
SUMMARY:Afterwork in Sao Paulo, Brazil
DTSTART:20180411T190000
DTEND:20180411T203000
UID:248
DTSTAMP:20260425T210008
LOCATION:Le Veloso Bar Rua Conceição Veloso, 54, Vila Mariana, São Paulo Brazil
DESCRIPTION:On the occasion of Professor Gervaise Debucquet's visit to Sao Paulo to teach at partner school ESPM, come and join her, students from Audencia's Food and Agribusiness programme, and fellow alumni for an informal afterwork gathering.\n \nFrom 19:00 to 20:30\nWednesday 11 April 2018\nIn the Vila Mariana district of Sao Paulo at\nLe Veloso Bar\nRua Conceição Veloso, 54, Vila Mariana, São Paulo\n
BEGIN:VALARM
ACTION:DISPLAY
TRIGGER:-PT60M
DESCRIPTION:Afterwork in Sao Paulo, Brazil
END:VALARM
END:VEVENT
END:VCALENDAR