BEGIN:VCALENDAR
VERSION:2.0
X-WR-TIMEZONE:Europe/Paris
PRODID:-//Audencia//NONSGML v1.0//EN
CALSCALE:GREGORIAN
BEGIN:VEVENT
SUMMARY:Alumni lunch in Beirut, Lebanon
DTSTART:20180417T121500
DTEND:20180417T133000
UID:247
DTSTAMP:20260425T205843
LOCATION:Restaurant of Le Gray Hotel - 1st Floor Martyrs’ Square, Beirut Central District, 2011 3312 Lebanon
DESCRIPTION:On the occasion of Audencian Yombo Rahman's visit to Beirut, come and join her and your fellow alumni for an informal lunch!\nYombo will be able to give you all the latest news from Audencia and Nantes.\n\n \nFrom 12:15 to 13:30\nTuesday 17 April 2018\nLe Gray Hotel - Restaurant 1st Floor\nMartyrs’ Square, Beirut Central District, 2011 3312 Lebanon
BEGIN:VALARM
ACTION:DISPLAY
TRIGGER:-PT60M
DESCRIPTION:Alumni lunch in Beirut, Lebanon
END:VALARM
END:VEVENT
END:VCALENDAR