BEGIN:VCALENDAR
VERSION:2.0
X-WR-TIMEZONE:Europe/Paris
PRODID:-//Audencia//NONSGML v1.0//EN
CALSCALE:GREGORIAN
BEGIN:VEVENT
SUMMARY:Meet & Learn à Genève, Suisse
DTSTART:20180530T203000
DTEND:20180530T210000
UID:246
DTSTAMP:20260425T205841
LOCATION:Hôtel NOVOTEL centre Rue de Zurich 19, 1201 GENEVE
DESCRIPTION:\n\nTransformation numérique : vers une organisation data-driven\n\n\nEn partenariat avec Audencia Business School, Grenoble Ecole de Management et Colombus Consulting\n \n\nMercredi 30 Mai\n18:30 – 21:00\nHôtel NOVOTEL centre\nRue de Zurich 19, 1201 GENEVE\n10 min à pieds de la gare Cornavin, parking sous-sol gratuit (dans la limite des places disponibles)\n\n\nLes nouvelles conférences “Meet&Learn” organisées par Audencia Business School et Grenoble Ecole de Management proposent des évènements de networking et de partage de connaissances, dans une ambiance décontractée propice aux échanges.\n\nCette Première Edition en partenariat avec Colombus Consulting, propose d’aborder la transformation des organisations par l’analyse et la compréhension des données, thème d’actualité avec l’arrivée du GDPR et la volonté croissante de mieux connaître ses clients pour construire des opportunités business.\n \n1. Transformation de l’organisation vers  un modèle « data-driven »\nL’Expérience Utilisateur et Employé sont devenus des thèmes majeurs pour la transformation des organisations.\nNous aborderons donc quelques leviers de transformation :\n\n	La DATA : type de données consommateurs disponibles et spécificités d’activation\n	La TECH : tendances et nouvelles opportunités, notamment avec l’IA\n\n… et illustrerons par quelques exemples et pistes pour la mise en place d’une organisation réellement « data- driven » :\n\n\n	partager la donnée (gouvernance) et accélérer les prises de décisions\n	rebondir sur les sujets réglementaires (GDPR bien sûr)\n\n\n2. Tirer profit de ses propres données pour éclairer ses décisions Marketing dans un contexte eRetail\nNous poursuivrons avec un cas concret dans l’univers du parfum :\n\n\n	Création de contenu et référencement Google\n	Utilisation des données afin d’augmenter la conversion\n	Pilotage les investissements média pour une optimisation en temps réel\n\n\nAgenda\n\n\n	18:30 : Accueil & networking\n	19:00–19:30 : Jean Meneveau – Transformation des organisations vers un modèle « data driven »\n	19:30–20:00 : Fanny Renaud – Cas d’entreprise dans l’univers du parfum\n	20:00–21:00 : Apéro cocktail & networking \n\n \n\nJean Meneveau – Directeur associé chez Colombus Consulting en Suisse\n\nJean a travaillé en tant que consultant et directeur durant plus de 15 ans dans des cabinets comme Accenture et Cap Gemini, dans les domaines Marketing Clients et Digital. Il a fait partie de l’équipe fondatrice du groupe Simalaya en Suisse et en Europe, et a rejoint en 2016 le groupe Colombus Consulting.\nJean a développé ses compétences auprès de grands groupes B2C et B2B et bénéficie en particulier d’une expertise reconnue sur les enjeux Data & Innovation, et notamment sur les écosystèmes MarTech et AdTech (DMP, modèle d’attribution, personnalisation, publicité digitale, CRM omnicanal, Next Best Action, Retail connecté…).\n\n \nFanny Renaud – Global Marketing Leader, Beauté, FMCG et horlogerie, diplômée d'Audencia (GE 08)\n\n\nAprès un passage en horlogerie chez TAG Heuer en Suisse, Fanny a passé 8 années  chez Procter & Gamble dans l’univers des parfums et de la beauté où elle a développé plusieurs campagnes de communication pour les marques Lacoste et ESCADA. Devenue Directrice Digitale et e-commerce pour la branche luxe de COTY basée à Genève, Fanny viendra exposer un cas sur l’univers de la beauté où l’optimisation des données et la connaissance du parcours consommateur a permis une meilleure gestion des médias et une augmentation des ventes en e-commerce.\n\n\n\n\n\n\n\n\n \nNombre de places limitées. Seules les personnes inscrites pourront participer à l’événement. \nIl vous sera demandé une participation de 20CHF / 17€.\nNous vous attendons nombreux, à bientôt !
BEGIN:VALARM
ACTION:DISPLAY
TRIGGER:-PT60M
DESCRIPTION:Meet & Learn à Genève, Suisse
END:VALARM
END:VEVENT
END:VCALENDAR