BEGIN:VCALENDAR
VERSION:2.0
X-WR-TIMEZONE:Europe/Paris
PRODID:-//Audencia//NONSGML v1.0//EN
CALSCALE:GREGORIAN
BEGIN:VEVENT
SUMMARY:ANNULE - Afterwork avec le Directeur de la Grande Ecole, Nicolas ARNAUD
DTSTART:20180329T203000
DTEND:20260425T205849
UID:244
DTSTAMP:20260425T205849
LOCATION:IBIS Montparnasse 22, avenue du Maine Paris
DESCRIPTION:\n- -  Faute de participants, nous annulons cette rencontre. Merci de votre compréhension - -\n\n\nNicolas ARNAUD, Directeur de la Grande Ecole d'Audencia, vous propose de vous retrouver pour un afterwork ce jeudi 29 mars à 20h30 à Paris.\n\nUne belle occasion d'échanger et d'avoir les dernières actualités de votre Ecole !\n\nMerci de vous inscrire afin de le prévenir de votre venue.\n \n
BEGIN:VALARM
ACTION:DISPLAY
TRIGGER:-PT60M
DESCRIPTION:ANNULE - Afterwork avec le Directeur de la Grande Ecole, Nicolas ARNAUD
END:VALARM
END:VEVENT
END:VCALENDAR