BEGIN:VCALENDAR
VERSION:2.0
X-WR-TIMEZONE:Europe/Paris
PRODID:-//Audencia//NONSGML v1.0//EN
CALSCALE:GREGORIAN
BEGIN:VEVENT
SUMMARY:Triathlon Audencia La Baule
DTSTART:20180922T090000
DTEND:20180923T180000
UID:242
DTSTAMP:20260425T210022
LOCATION:La Baule
DESCRIPTION:La 31ème édition du Triathlon Audencia La Baule aura lieu les 22 et 23 septembre prochains.\n\n \n\nhttp://www.triathlon-audencialabaule.com/\n 
BEGIN:VALARM
ACTION:DISPLAY
TRIGGER:-PT60M
DESCRIPTION:Triathlon Audencia La Baule
END:VALARM
END:VEVENT
END:VCALENDAR