BEGIN:VCALENDAR
VERSION:2.0
X-WR-TIMEZONE:Europe/Paris
PRODID:-//Audencia//NONSGML v1.0//EN
CALSCALE:GREGORIAN
BEGIN:VEVENT
SUMMARY:Green tech start-ups - Information session in Casablanca, Morocco
DTSTART:20180321T183000
DTEND:20180321T193000
UID:241
DTSTAMP:20260425T205852
LOCATION:Espace Bidaya 33 bis rue le Titien, Val Fleury  20000 Casablanca
DESCRIPTION:Calling all entrepreneurs!\n\nBidaya is recruiting its 6th class of social green tech startups! Come and find out more at the information session on:\nWednesday March 21 \nfrom 18:30 \nEspace Bidaya, 33 bis rue le Titien, Val Fleury, 20000 Casablanca\n\n\n \n\n\nTo join the information session, mandatory registrationvia this link\n \n \n\nOn the agenda:\n\n	presentation of Espace Bidaya's incubation programme\n	questions and answers on the selection process for the 6th session\n	testimonies of entrepreneurs incubated at Espace Bidaya\n	presentation of incubated startups\n	networking with partners\n\n \n\n\nApplications to join the Badaya incubator are open until April 20, 2018\nand should be made via this online form\n \n 
BEGIN:VALARM
ACTION:DISPLAY
TRIGGER:-PT60M
DESCRIPTION:Green tech start-ups - Information session in Casablanca, Morocco
END:VALARM
END:VEVENT
END:VCALENDAR