BEGIN:VCALENDAR
VERSION:2.0
X-WR-TIMEZONE:Europe/Paris
PRODID:-//Audencia//NONSGML v1.0//EN
CALSCALE:GREGORIAN
BEGIN:VEVENT
SUMMARY:Audencia Alumni Corner - Networking session with international ambassadors
DTSTART:20170302T180000
DTEND:20170302T193000
UID:24
DTSTAMP:20260425T205820
LOCATION:Alumni Corner Audencia Business Shcool 8 route de la Joneliere, Nantes
DESCRIPTION:In honour of the visits of international alumni ambassadors Loïc Leroux-Gaullier (Canada) and Siddharth Akolkar (India), Audencia Alumni is delighted to host an informal networking session at the School.\nCome and join us from 18.00 to 19.30 on Thursday 2nd March at the Alumni Corner (8 route de la Jonelière, Nantes).\nMake the most of this great opportunity to find out more about international careers!
BEGIN:VALARM
ACTION:DISPLAY
TRIGGER:-PT60M
DESCRIPTION:Audencia Alumni Corner - Networking session with international ambassadors
END:VALARM
END:VEVENT
END:VCALENDAR