BEGIN:VCALENDAR
VERSION:2.0
X-WR-TIMEZONE:Europe/Paris
PRODID:-//Audencia//NONSGML v1.0//EN
CALSCALE:GREGORIAN
BEGIN:VEVENT
SUMMARY:ATELIER DE POURSUITE D'ETUDES : oui ou non
DTSTART:20170314T180000
DTEND:20170314T190000
UID:23
DTSTAMP:20260425T205730
LOCATION:4 rue Bisson 44100 NANTES
DESCRIPTION:\nLe réseau des diplômés vous propose de participer à une réunion d’échanges autour de votre projet post Bachelor.\nATELIER POURSUITE D'ETUDES – OUI OU NON ?\nSeront présents des diplômés ayant fait le choix d’une poursuite d’études ou celui d’une intégration sur le marché du travail.\nJe vous invite vivement à profiter de cette opportunité et à vous inscrire d’ici le 1er mars.\n 
BEGIN:VALARM
ACTION:DISPLAY
TRIGGER:-PT60M
DESCRIPTION:ATELIER DE POURSUITE D'ETUDES : oui ou non
END:VALARM
END:VEVENT
END:VCALENDAR