BEGIN:VCALENDAR
VERSION:2.0
X-WR-TIMEZONE:Europe/Paris
PRODID:-//Audencia//NONSGML v1.0//EN
CALSCALE:GREGORIAN
BEGIN:VEVENT
SUMMARY:Petit-déjeuner communication et médias
DTSTART:20180525T080000
DTEND:20180525T093000
UID:215
DTSTAMP:20260425T210001
LOCATION:Mediacampus - Audencia SciencesCom 41 boulevard de la Prairie au duc 44300 Nantes
DESCRIPTION:Petit déjeuner thématique communication et médias\n\n \n\nAlice Thiriet (diplômée SC 2011) et Jérémy Vu (diplômé SC 2012), qui souhaitent dynamiser le réseau Alumni communication et médias, vous proposent un moment de partage et d'échanges de bonnes (et mauvaises !) pratiques professionnelles lors d'un petit déjeuner. \n\nLa promesse : un créneau court, efficace et convivial, afin de repartir avec des idées fraîches et faciles à mettre en place.\n\nRavie de les accompagner dans cette démarche, Audencia SciencesCom accueillera le premier rendez-vous le vendredi 25 mai entre 8h00 et 9h30 au Mediacampus. Le thème choisi : "Stimuler l'intelligence collective, booster la créativité ou le potentiel de ses collaborateurs". 
BEGIN:VALARM
ACTION:DISPLAY
TRIGGER:-PT60M
DESCRIPTION:Petit-déjeuner communication et médias
END:VALARM
END:VEVENT
END:VCALENDAR