BEGIN:VCALENDAR
VERSION:2.0
X-WR-TIMEZONE:Europe/Paris
PRODID:-//Audencia//NONSGML v1.0//EN
CALSCALE:GREGORIAN
BEGIN:VEVENT
SUMMARY:Afterwork in Singapore
DTSTART:20180329T190000
DTEND:20180329T210000
UID:214
DTSTAMP:20260425T210023
LOCATION:Super Loco 70 Collyer Quay #01-04 Customs House
DESCRIPTION:On the occasion of Audencian Marine Jegu's visit to Singapore, come and join her and your fellow alumni for an afterwork gathering!\nMarine will be able to give you all the latest news from Audencia and Nantes.\n\n \nFrom 19:00 to 21:00\nThursday 29 March 2018\nat the\nSuper Loco\n70 Collyer Quay #01-04 Customs House \n\n*the booking is under the name "Audencia"*
BEGIN:VALARM
ACTION:DISPLAY
TRIGGER:-PT60M
DESCRIPTION:Afterwork in Singapore
END:VALARM
END:VEVENT
END:VCALENDAR