BEGIN:VCALENDAR
VERSION:2.0
X-WR-TIMEZONE:Europe/Paris
PRODID:-//Audencia//NONSGML v1.0//EN
CALSCALE:GREGORIAN
BEGIN:VEVENT
SUMMARY:Afterwork in Frankfurt, Germany
DTSTART:20180412T180000
DTEND:20180412T210000
UID:213
DTSTAMP:20260425T210008
LOCATION:Café Extrablatt - Eschenheimer Tor Große Eschenheimer Straße 45. 60313  Frankfurt-am-Main
DESCRIPTION:On the occasion of his visit to Frankfurt, your all-time favourite Audencia professor, Uwe Supper, would be delighted to meet up with students and alumni for an informal afterwork get-together at 18:00 on Thursday 12th April at:\n\n \nCafé Extrablatt - Eschenheimer Tor\nGroße Eschenheimer Straße 45. 60313 Frankfurt-am-Main\nLines U1, U2, U3 & U8 Eschenheimer Tor station or U6 & U7 Hauptwache station\nLines S1, S2, S3, S4, S5, S6, S7, S8 & S9 Hauptwache station\n \n\nMany thanks to Lottie (GE 2020) for organising the gathering!\n\nIn Uwe's own words, "This will be the opportunity to meet to talk about the School, the good old days, answer your questions and simply exchange ideas..."\n 
BEGIN:VALARM
ACTION:DISPLAY
TRIGGER:-PT60M
DESCRIPTION:Afterwork in Frankfurt, Germany
END:VALARM
END:VEVENT
END:VCALENDAR