BEGIN:VCALENDAR
VERSION:2.0
X-WR-TIMEZONE:Europe/Paris
PRODID:-//Audencia//NONSGML v1.0//EN
CALSCALE:GREGORIAN
BEGIN:VEVENT
SUMMARY:Conférence-dédicace autour du livre de François-Xavier Marquis "pensée ou intelligence artificielle?", organisée par l'Institut Kervégan, Nantes
DTSTART:20180315T191500
DTEND:20180315T210000
UID:212
DTSTAMP:20260425T205947
LOCATION:Insula Café, 47 Rue la Tour d'Auvergne, 44200 Nantes
DESCRIPTION:L'intelligence artificielle au coeur des entreprises\nImpacts et enjeux pour le travail, les organisations et les Hommes\nJeudi 15 mars 2018\n19h15\nInsula Café, 47 Rue la Tour d'Auvergne, 44200 Nantes\n\nUne conférence autour du livre de François-Xavier Marquis : "pensée ou intelligence artificielle ?" paru aux éditions l'Harmattan\n\nFrançois-Xavier Marquis nous propose de questionner l’impact du numérique dans les entreprises à travers les changements organisationnels et les défis éthiques que cela implique. Refonte de la chaîne décisionnelle et de sa culture? Relations homme-machine? La gestion des talents, de la formation et du recrutement pour anticiper la montée en puissance de l’intelligence artificielle? Voilà autant de questions auxquelles pourra répondre notre invité.\n\nFrançois-Xavier Marquis, nous fait partager ses expériences à l’aune de quarante années comme utilisateur et acteur du numérique. De la stratégie d’entreprise à la formation professionnelle, il nous interpelle sur les enjeux humains et sociétaux, souvent masqués par les mots, portés par l’ère du numérique.\n\nFX Marquis, est consultant et a été chargé, en 2015, de deux missions pour le Gouvernement touchant au rôle du Numérique dans la formation. Il a effectué, en parallèle, un travail sur les conséquences de la loi sur la formation professionnelle. Il a préalablement dirigé le FAFIEC (OPCA du Numérique, Conseil, Ingénierie, Etude), la Maison de l’Entreprise Auxerre (Groupe privé patronal de formation et de conseil), la CCI de Saumur et diverses startups. Cocréateur de Chambersign (autorité de certification de signature électronique des CCI). Il est par ailleurs Docteur Projets et Produits Nouveaux Mines de Paris (PPN94), Mastère Gestion Industriel (88), DEA Génie de Procédés (81), Ingénieur ENSIA 78 (Agro Paris Tech).        \n\n \nEntrée libre : sur inscription en suivant ce lien\n\nLes échanges se poursuivront autour d'un cocktail dinatoire\n \n\nInstitut Kervégan\n10 rue de Feltre - 44000 Nantes\nTél. 09 82 22 26 19 
BEGIN:VALARM
ACTION:DISPLAY
TRIGGER:-PT60M
DESCRIPTION:Conférence-dédicace autour du livre de François-Xavier Marquis "pensée ou intelligence artificielle?", organisée par l'Institut Kervégan, Nantes
END:VALARM
END:VEVENT
END:VCALENDAR