BEGIN:VCALENDAR
VERSION:2.0
X-WR-TIMEZONE:Europe/Paris
PRODID:-//Audencia//NONSGML v1.0//EN
CALSCALE:GREGORIAN
BEGIN:VEVENT
SUMMARY:Afterwork in Hong Kong
DTSTART:20180322T190000
DTEND:20180322T210000
UID:211
DTSTAMP:20260425T205854
LOCATION:La Cantoche G/F, 5 Wa Lane, 227 Hollywood Road, Sheung Wan, Hong Kong
DESCRIPTION:On the occasion of the Executive MBA learning expedition to Hong Kong, come and join ambassador Benoit and fellow alumni for an afterwork gathering!\n \nFrom 19:00 to 21:00\nThursday 22 March 2018\n**CHANGE OF LOCATION**\nNow taking place at "La Cantoche"\nG/F, 5 Wa Lane, 227 Hollywood Road, Sheung Wan\n上環荷李活道227號地下
BEGIN:VALARM
ACTION:DISPLAY
TRIGGER:-PT60M
DESCRIPTION:Afterwork in Hong Kong
END:VALARM
END:VEVENT
END:VCALENDAR