BEGIN:VCALENDAR
VERSION:2.0
X-WR-TIMEZONE:Europe/Paris
PRODID:-//Audencia//NONSGML v1.0//EN
CALSCALE:GREGORIAN
BEGIN:VEVENT
SUMMARY:ONLINE! Audencia 2018 International Career Fair
DTSTART:20180307T090000
DTEND:20180316T180000
UID:210
DTSTAMP:20260425T205822
LOCATION:Online
DESCRIPTION:Attend Audencia's 2018 online International Career Fair and land interviews with top international firms!\n \nRecruiters are looking for their next talents at the Audencia online Career Fair from 7th to 16th March.\n \n\n	10 days to land interviews\n	Direct access to the recruiters’ schedules\n	An online experience: enjoy the fair wherever you are\n	A 5 minutes, free registration\n\n \nDiscover opportunities and exchange with recruiters & employees !\n \nAmong the international companies who are participating AND hiring:\nClub Med Sydney, Rocket Internet Singapore, Nike Netherlands, Lagardère Australia, Indo-French Chamber of Commerce, Henkel Belgium, Amaris, Sopra Steria & more !\n \nTo pre-register for the event\nfollow this link \n \n 
BEGIN:VALARM
ACTION:DISPLAY
TRIGGER:-PT60M
DESCRIPTION:ONLINE! Audencia 2018 International Career Fair
END:VALARM
END:VEVENT
END:VCALENDAR