BEGIN:VCALENDAR
VERSION:2.0
X-WR-TIMEZONE:Europe/Paris
PRODID:-//Audencia//NONSGML v1.0//EN
CALSCALE:GREGORIAN
BEGIN:VEVENT
SUMMARY:SABS school banquet in Shenzhen, China
DTSTART:20180321T180000
DTEND:20180321T220000
UID:209
DTSTAMP:20260425T205859
LOCATION:Venice Raytour Hotel Shenzhen, 9026 Shennan Road, Nan Shan District - Shenzhen, China
DESCRIPTION:
BEGIN:VALARM
ACTION:DISPLAY
TRIGGER:-PT60M
DESCRIPTION:SABS school banquet in Shenzhen, China
END:VALARM
END:VEVENT
END:VCALENDAR