BEGIN:VCALENDAR
VERSION:2.0
X-WR-TIMEZONE:Europe/Paris
PRODID:-//Audencia//NONSGML v1.0//EN
CALSCALE:GREGORIAN
BEGIN:VEVENT
SUMMARY:Afterwork in London, UK with students of Audencia's MS FRC (Finance, Risk, Control)
DTSTART:20180327T183000
DTEND:20180327T200000
UID:207
DTSTAMP:20260425T205819
LOCATION:Bar Kick 127 Shoreditch High Street, Londres E1 6JE
DESCRIPTION:London calling!\n\nAudencia professor Thierry Mezeret is accompanying the students from the specialised master FRC (finance, risk, control) on a learning expedition to London. They will be visiting financial institutions during their time in the UK capital.\n\nIf you are working in the field of finance or can wax lyrical about a finance-related subject, come and join Professor Mezeret and students for an afterwork networking session at:\n \nBar Kick\nfrom 18:30\non Tuesday 27th March\n\nThis will be a unique opportunity for you to share your experiences with students who may be following in your footsteps.
BEGIN:VALARM
ACTION:DISPLAY
TRIGGER:-PT60M
DESCRIPTION:Afterwork in London, UK with students of Audencia's MS FRC (Finance, Risk, Control)
END:VALARM
END:VEVENT
END:VCALENDAR