BEGIN:VCALENDAR
VERSION:2.0
X-WR-TIMEZONE:Europe/Paris
PRODID:-//Audencia//NONSGML v1.0//EN
CALSCALE:GREGORIAN
BEGIN:VEVENT
SUMMARY:CONFÉRENCE : Bilan du CES 2018, tendances technologiques et bouleversement de la communication et des médias
DTSTART:20180328T183000
DTEND:20180328T210000
UID:206
DTSTAMP:20260425T205907
LOCATION:Mediacampus Audencia SciencesCom 41 Boulevard de la Prairie au Duc 44200 Nantes
DESCRIPTION:Dentsu Aegis Network et Audencia SciencesCom vous invitent à la conférence :\nQuand les tendances technologiques bouleversent le futur de la communication et des médias.\n \n\nDentsu Aegis Network et Audencia SciencesCom vous invitent au Mediacampus à la conférence : Quand les tendances technologiques bouleversent le futur de la communication et des médias.\n\nLe cabinet Dentsu Consulting s’est rendu au CES de Las Vegas et vous propose son analyse sur les éléments essentiels à retenir.\n\nCette soirée sera l'occasion pour Benoit Régent, Directeur du Département prospective de Dentsu Aegis Network, de vous présenter dix tendances technologiques qui marqueront l’année 2018 et qui pourront impacter l’avenir des médias et de la communication.\n\nA l'issue de la conférence un apéritif vous sera offert.
BEGIN:VALARM
ACTION:DISPLAY
TRIGGER:-PT60M
DESCRIPTION:CONFÉRENCE : Bilan du CES 2018, tendances technologiques et bouleversement de la communication et des médias
END:VALARM
END:VEVENT
END:VCALENDAR