BEGIN:VCALENDAR
VERSION:2.0
X-WR-TIMEZONE:Europe/Paris
PRODID:-//Audencia//NONSGML v1.0//EN
CALSCALE:GREGORIAN
BEGIN:VEVENT
SUMMARY:Conférence Si entreprendre était un sport Olympique - AUDENCIA BACHELORS
DTSTART:20180315T190000
DTEND:20180315T203000
UID:205
DTSTAMP:20260425T205730
LOCATION:4 Rue bisson 44000 NANTES
DESCRIPTION:\n\n\nNous vous convions à la prochaine conférence d'Audencia Bachelors sur le thème :\n \n"Si entreprendre était un sport olympique"\n\npar Romain HEINRICH - Pilote de l'équipe de France de bobsleigh - 2 sélections aux Jeux Olympiques  \nIngénieur Génie Industriel - Master d'Administration d'Entreprise \n\nProgramme :\nAccueil : 18H30 4 rue Bisson à Nantes\nConférence : 19H00\nCocktail dinatoire : 20H30\n\nPour vous inscrire : Si entreprendre était un sport Olympique\n\nAttention le nombre de places est limité à 50. Réservé aux diplômés\n\nPour plus de renseignements : Valérie CHAUVET 02 40 44 42 05 ou vchauvet@audencia.com
BEGIN:VALARM
ACTION:DISPLAY
TRIGGER:-PT60M
DESCRIPTION:Conférence Si entreprendre était un sport Olympique - AUDENCIA BACHELORS
END:VALARM
END:VEVENT
END:VCALENDAR