BEGIN:VCALENDAR
VERSION:2.0
X-WR-TIMEZONE:Europe/Paris
PRODID:-//Audencia//NONSGML v1.0//EN
CALSCALE:GREGORIAN
BEGIN:VEVENT
SUMMARY:Soirée Ingénieurs-Managers
DTSTART:20180405T190000
DTEND:20180405T220000
UID:204
DTSTAMP:20260425T210001
LOCATION:Audencia BS - Campus Paris 95, rue Falguière 75015 Paris
DESCRIPTION: \n\n10 ans déjà !\n\nSoirée réservée aux Ingénieurs-Managers\n\n \n\nEn 2008 naissait le programme ingénieurs-managers pour répondre aux besoins du marché en compétences hybrides. Dix ans plus tard, vous êtes une communauté de 575 diplômés et 221 étudiants.\nUne bonne occasion de vous réunir entre Ingénieurs-Managers.\n\nPionnier de la maison intelligente, l’entreprise NETATMO, primée au CES de Las Vegas, vous présentera ses innovations en matière d’objets connectés.\n \nEchanges, actualités, nouveautés, sujets dédiés ingénieurs-managers…\nnous vous avons préparé un événement sur-mesure, rien que pour Vous, chers Ingénieurs-Managers\n\n\nAu programme :\n\n\n	19h00 : Accueil\n	19h20 : Actus et conférence\n	20h20 : Echanges\n	20h40 : Cocktail\n	 \n\n\nInscriptions avant le 4 avril à 15h\n[vous devez au préalable vous logger ou créer votre compte]\n \n\nUn problème pour vous inscrire ?\nContactez Laëtitia CALIEZ, lcaliez@audencia.com\n\n
BEGIN:VALARM
ACTION:DISPLAY
TRIGGER:-PT60M
DESCRIPTION:Soirée Ingénieurs-Managers
END:VALARM
END:VEVENT
END:VCALENDAR