BEGIN:VCALENDAR
VERSION:2.0
X-WR-TIMEZONE:Europe/Paris
PRODID:-//Audencia//NONSGML v1.0//EN
CALSCALE:GREGORIAN
BEGIN:VEVENT
SUMMARY:Parcours Carrière : Nouvel Elan - Etapes 1 & 2 (05-06 et 26 avril 2018)
DTSTART:20180405T090000
DTEND:20180426T180000
UID:203
DTSTAMP:20260425T205900
LOCATION:95 rue Falguière 75015 PARIS
DESCRIPTION:Lancez-vous et donnez un nouvel élan à votre carrière !\nVous avez envie de changement et besoin d'être accompagné pour amorcer ce nouveau challenge ?\nLes consultantes Carrière vous guident en 3 étapes :\n\n1- Définir votre projet\n\n	Apprendre à bien vous connaître pour faire les bons choix, en identifiant vos motivations, vos préférences et vos forces distinctives "ce que je suis"\n	Définir vos possibilités d’évolution "ce que je veux être"\n	Vous positionner sur 3 cibles professionnelles pour développer des contacts réseau et mettre au point un plan d’action "ce que je vais faire"\n\n2- Structurer et enclencher votre projet\n\n\n	Savoir utiliser l'entretien réseau pour approfondir ses pistes et ajuster son projet \n	Construire un pitch inspirant et unique \n	S'engager dans un plan d’action en identifiant les étapes\n\n3- Passer à l'action et prendre confiance\n\n\n	Définir un plan d'action de mise en oeuvre \n	Donner du relief à ses outils de communication : CV Pitch 3’, profil Linked In,... \n	Gagner en impact et en conviction dans son personal branding lors des entretiens\n\n\n\nLes outils et méthodes utilisés :\nAtelier interactif en groupe de 6 à 12 personnes \nSimulation entretiens / vidéos\nFeedbacks du groupe\nFeedbacks de spécialistes du recrutement\nRéflexion sur soi appuyée sur des tests reconnus (MBTI, STRONG), identification des compétences, ajustement du projet puis déploiement et confrontation avec un professionnel du recrutement. \n\nInscriptions à la carte\nEtape 1 : 05 & 06 avril 2018 S'inscrire\nEtape 2 : 26 avril 2018 S'inscrire\n\nLes diplômés en parlent !\n\n« Il n’y a pas d’âge pour poser ses valises pendant 2 jours pour avoir la chance de réfléchir sur soi, son parcours professionnel, ses motivations, surtout en bénéficiant de l’émulation du collectif de groupe si enrichissant et primordial. Je repars avec un premier plan d’action opérationnel et une attitude positive et optimiste. » EURO MBA 06\n\n«  Le travail en groupe empreint de bienveillance et à l'écoute des sensibilités de chacun diffuse de l'énergie et décuple la motivation. » GE 96\n \nNota : Ce parcours s'adresse aux diplômés expérimentés ayant une ou plusieurs expériences professionnelles.\nPour les diplômés de moins de 3 ans, nous vous réservons un parcours jeunes diplômés. Contactez-nous pour plus d'information : audenciaalumni@audencia.com\n 
BEGIN:VALARM
ACTION:DISPLAY
TRIGGER:-PT60M
DESCRIPTION:Parcours Carrière : Nouvel Elan - Etapes 1 & 2 (05-06 et 26 avril 2018)
END:VALARM
END:VEVENT
END:VCALENDAR