BEGIN:VCALENDAR
VERSION:2.0
X-WR-TIMEZONE:Europe/Paris
PRODID:-//Audencia//NONSGML v1.0//EN
CALSCALE:GREGORIAN
BEGIN:VEVENT
SUMMARY:Afterwork #1 - Club Assurance
DTSTART:20180405T200000
DTEND:20180405T223000
UID:200
DTSTAMP:20260425T205853
LOCATION:
DESCRIPTION:Diplômée d’Audencia évoluant dans le domaine de l’assurance (Project Manager chez Axa Group), je propose la création d’un nouveau club thématique au sein du réseau Audencia Alumni.\n \nLe Club Assurance se donne pour objectifs de :\n\n	Faire connaissance entre Alumni Audencia travaillant dans le secteur\n	Partager nos réseaux professionnels (au-delà d’Audencia)\n	Echanger ensemble sur le secteur\n	Partager des opportunités de carrière\n	Promouvoir le secteur de l'assurance à Audencia\n\n\nAu fil de nos premiers échanges et de nos premières rencontres, nous affinerons le projet du Club, que nous allons construire ensemble, en lien avec nos attentes et envies de diplômés. J’invite d’ailleurs ceux qui le souhaitent à me faire part de leur avis en répondant à quelques questions sur ce formulaire (en moins de 3mn).\n \nPour lancer officiellement le Club Assurance, je vous invite à nous retrouver pour notre premier événement convivial :\n \nAfterwork #1 – Club Assurance\nLe 05 avril à Paris\n \nFaites-nous connaître votre participation en vous inscrivant. Et si vous ne pouvez pas participer cette fois-ci mais êtes intéressé par le club, n’hésitez pas à rejoindre la communauté en ligne.\n \nAu plaisir d’une prochaine rencontre,\n \nOriane Valdelièvre\nDiplômée GE 2013
BEGIN:VALARM
ACTION:DISPLAY
TRIGGER:-PT60M
DESCRIPTION:Afterwork #1 - Club Assurance
END:VALARM
END:VEVENT
END:VCALENDAR