BEGIN:VCALENDAR
VERSION:2.0
X-WR-TIMEZONE:Europe/Paris
PRODID:-//Audencia//NONSGML v1.0//EN
CALSCALE:GREGORIAN
BEGIN:VEVENT
SUMMARY:Webinar: Data-driven organisation design
DTSTART:20170117T130000
DTEND:20170117T140000
UID:2
DTSTAMP:20260425T225109
LOCATION:online
DESCRIPTION:\nThe Association of MBAs is pleased to announce a new FREE webinar for AMBA Members.\n\nToo many leaders treat organisation design as an exercise in moving boxes around PowerPoint slides. Under time and costs pressures, they often revert to simply slashing and burning. In other words, they focus only on where the ‘box’ sits instead of what’s in the box. This practice leads to poor design which damages the organisation in the long run.\n\nThis webinar offers a practical toolkit for HR and organisation design practitioners to use a data-driven approach as a better alternative in doing organisation design. With change now becoming ‘business as usual’, Rupert Morrison argues that organisation design must move from being a one-off intervention to becoming an on-going transformation process. Using organisational data and analytics, practitioners will be able to connect all the elements of an organisation to design an environment for people to perform in - one that has the right people, in the right place, doing the right things, at the right time. \n \n\n\nTo register for this free webinar please log on to the AMBA Community >>\n\nThis webinar is accessible to students or alumni of an AMBA-accredited programme at Audencia, i.e., Executive MBA, MBA in Responsible Management or Master in Management (Grande Ecole Programme), but registration is required. Registering as an alum of an AMBA-accredited programme takes only a few minutes.\nIf you have any questions about your eligibility, or how to access the Community, please contact membership@mbaworld.com\n\nGo to www.mbaworld.com/communitysignup \n\n\n	complete your personal details\n	select ‘Graduate’ from the ‘I am a’ drop down\n	select your Business School\n	enter the following access key: G25912\n
BEGIN:VALARM
ACTION:DISPLAY
TRIGGER:-PT60M
DESCRIPTION:Webinar: Data-driven organisation design
END:VALARM
END:VEVENT
END:VCALENDAR